BEGIN:VCALENDAR
VERSION:2.0
PRODID:-//Français - ECPv5.16.4.1//NONSGML v1.0//EN
CALSCALE:GREGORIAN
METHOD:PUBLISH
X-WR-CALNAME:Français
X-ORIGINAL-URL:https://weconnect.eu.com/france
X-WR-CALDESC:Évènements pour Français
BEGIN:VTIMEZONE
TZID:UTC
BEGIN:STANDARD
TZOFFSETFROM:+0000
TZOFFSETTO:+0000
TZNAME:UTC
DTSTART:20260101T000000
END:STANDARD
END:VTIMEZONE
BEGIN:VEVENT
DTSTART;TZID=UTC:20260612T140000
DTEND;TZID=UTC:20260614T120000
DTSTAMP:20260421T231310
CREATED:20260421T122309Z
LAST-MODIFIED:20260421T122309Z
UID:1355-1781272800-1781438400@weconnect.eu.com
SUMMARY:Réunion du Réseau Overture Diversité 2026
DESCRIPTION:Cette année\, c’est la Federazion Italiana della Scautismo qui recevra la 54ᵉ réunion du Réseau Overture Diversité\, un réseau de la Région Européenne de l’Organisation Mondiale du Mouvement Scout (OMMS) et de la Région Europe de l’Association Mondiale des Guides et des Éclaireuses (AMGE).\n\nL’évènement se tiendra à Rome\, en Italie\, du 12 au 14 juin 2026.\n \n\nBut et objectifs\n\nLes réunions du Réseau Overture Diversité visent à renforcer la compréhension de la diversité et de l’inclusion au sein de la Région Européenne du Scoutisme et de la Région Europe de l’AMGE. Ces réunions sont axées sur des thèmes clés qui font de ces évènements des moments riches et éducatifs. Cet apprentissage se fait autant lors d’échanges d’expériences que lors de séances plénières\, durant lesquels les principes essentiels de la diversité et de l’inclusion sont abordés.\n \nLe programme de cette année sera un mélange de séances plénières et d’ateliers\, et voici quelques sujets à l’ordre du jour :\n\nComprendre la dyslexie et les pratiques inclusives d’apprentissage\nOrganiser des évènements plus accessibles et inclusifs\nAider les réfugiés et les groupes vulnérables\nLa neurodiversité dans le Scoutisme et le Guidisme\nAtteindre des enfants et des jeunes de zones à faibles revenus\nLa santé mentale et le bien-être dans le Scoutisme et le Guidisme\n\nLes employés et les bénévoles impliqués dans la diversité et l’inclusion (à l’AMGE\, à l’OMMS\, et autres) partageront leur expertise lors des séances plénières. Durant les ateliers\, les participants pourront façonner leurs propres expériences d’apprentissage.  \n \nPour la soirée internationale du samedi\, nous demandons aux participants d’apporter différents objets et produits de leur pays (et organisation) : posters\, flyers\, insignes\, jeux\, ou de la nourriture et des boissons à partager et faire découvrir.\n \n\nDates et lieu\n\nLa réunion se tiendra au Centre scout de Rome.\nLargo dello Scautismo\, 1\n00162 Roma RM\, Italie Localisation : Google Maps\n \nL’évènement débutera à 14h CEST le vendredi 12 juin 2026. Les participants sont attendus pour 12h CEST. Le programme de l’évènement se terminera à 12h CEST le dimanche 14 juin 2026.   \n \n\nProfil des participantes et participants  \n\nLa réunion du Réseau est ouverte aux représentants des Organisations et Associations Scoutes Nationales (OSN/ASN) de la Région Européenne du Scoutisme de l’Organisation Mondiale du Mouvement Scout (OMMS)\, ainsi qu’aux représentantes d’Organisations Membres (OM) et d’Associations composantes (AC) de la Région Europe de l’Association Mondiale des Guides et des Éclaireuses (AMGE).\n \nLes participants et participantes devraient connaitre les sujets de la diversité et l’inclusion\, et les manières de les appliquer au sein de leur organisation. Ils devraient aussi avoir envie d’apprendre et de partager leurs expériences\, et être ouverts aux différentes formes de Scoutisme et de Guidisme. \n \nLes personnes ayant déjà participé à une réunion du Réseau Overture Diversité – voire plusieurs – sont les bienvenues.\n \n\nLangue\n\nLa langue de travail de la réunion du Réseau Overture Diversité sera l’anglais afin de faciliter les échanges entre les participants. Il est essentiel de pouvoir communiquer dans cette langue pour prendre part à l’évènement.\n \n\nFrais de participation \n\nL’évènement base ses frais sur les catégories de revenus de l’OMMS.\n\n\nCatégorie A : 150 EUR\n\n[Cat. A = République de Moldova]\nCatégorie B = 160 EUR\n[Cat. B = Arménie\, Azerbaïdjan\, Biélorussie\, Bosnie-Herzégovine\, Bulgarie\, Géorgie\, Monténégro\, Macédoine du Nord\, Roumanie\, Russie\, Serbie\, Turquie\, Ukraine]\nCatégorie C : 170 EUR\n[Cat. C = Albanie\, Croatie\, Tchéquie\, Estonie\, Hongrie\, Lettonie\, Lituanie\, Pologne\, Slovaquie]\nCatégorie D : 180 EUR\n[Cat. D = Tous les pays de la Région Européenne du Scoutisme (OMMS) non mentionnés plus haut]\n\n \nCes frais couvrent le logement\, les repas\, les pauses café\, le programme et le lieu de rencontre. Les modalités de paiement seront envoyées par mail lors de l’inscription. Le paiement intégral doit être effectué au plus tard le dimanche 24 mai 2026 à 23h59 CEST.\n \n\nCandidature\n\nVous pouvez dès à présent candidater\, et ce jusqu’au dimanche 10 mai 2026\, à 23h59. Les candidatures déposées après cette date limite ne seront pas considérées. Voici le lien pour déposer votre candidature : https://forms.gle/9H1t2f6SEPYeisRp8\n \nVu la taille restreinte de l’évènement\, nous garantissons pour l’instant la présence de deux participants par NSO\, NSA\, OM ou AC. Toute place restante sera redistribuée pour représenter la diversité régionale.\n \nSi votre OSN\, ASN\, OM ou AC soutient plus de deux participants\, veuillez nous laisser savoir – dans les lettres ou par mail – les noms des participants sélectionnés aux deux places garanties.\n \nQuels sont les documents nécessaires pour candidater ?  \nVotre candidature doit contenir :\n\nUne lettre de soutien du commissaire international de votre organisation \nUne attestation de réussite du module ‘SfH 1 : Apprentissage des bases d’À l’abri de la maltraitance’. \n\nLes participants sélectionnés recevront un mail de confirmation et une lettre d’information. Les résultats des candidatures seront partagés pour le 12 mai. Veuillez attendre le mail de confirmation avant de réserver votre voyage.\n \n\nVisa et transports\n\nVeuillez vérifier les exigences en matière de visa avant de réserver votre voyage. L’Italie fait partie de l’espace Schengen. Une pièce d’identité valide ou un document officiel de transport est nécessaire. Si besoin\, nous pouvons vous aider à obtenir un visa pour l’Italie.\n \nDes informations supplémentaires vous seront transmises pour vous aider à organiser votre voyage une fois que vous l’aurez réservé. Veuillez ne réserver votre voyage qu’après avoir reçu la confirmation de l’équipe d’accueil. N’hésitez pas à nous contacter si vous avez besoin d’aide.   \n\nAssurance\n\nLa Région Européenne du Scoutisme et la Région Europe de l’AMGE ne fournissent pas d’assurance aux participants\, autant durant l’évènement que lors des transports vers et depuis le lieu de rencontre. Veuillez noter qu’il revient exclusivement aux associations d’assurer que les participants sont couverts par une assurance (maladie\, accident\, rapatriement).\n \n\nPour plus d’informations et pour nous contacter\n\nDes questions ou besoin d’informations supplémentaires ? Veuillez contacter Tomás Arias (tomas.arias@scouts.org.uk\, l’ambassadeur du Réseau Overture Diversité\, ou Chelo Giulianelli (chelo.giulianelli@cngei.it)\, de l’équipe d’accueil.
URL:https://weconnect.eu.com/france/event/reunion-du-reseau-overture-diversite-2026/
LOCATION:Roma\, Italia\, Roma\, Italy
ATTACH;FMTTYPE=image/jpeg:/france/wp-content/uploads/2026/04/overture-diversity-network.jpg
END:VEVENT
END:VCALENDAR